BEGIN:VCALENDAR
VERSION:2.0
PRODID:-//Blog de Informática - ECPv6.13.2.1//NONSGML v1.0//EN
CALSCALE:GREGORIAN
METHOD:PUBLISH
X-WR-CALNAME:Blog de Informática
X-ORIGINAL-URL:http://informatica.escolatecnicaadelia.com.br
X-WR-CALDESC:Eventos para Blog de Informática
REFRESH-INTERVAL;VALUE=DURATION:PT1H
X-Robots-Tag:noindex
X-PUBLISHED-TTL:PT1H
BEGIN:VTIMEZONE
TZID:America/Sao_Paulo
BEGIN:STANDARD
TZOFFSETFROM:-0300
TZOFFSETTO:-0300
TZNAME:-03
DTSTART:20240101T000000
END:STANDARD
END:VTIMEZONE
BEGIN:VEVENT
DTSTART;TZID=America/Sao_Paulo:20241128T180000
DTEND;TZID=America/Sao_Paulo:20241128T183000
DTSTAMP:20260423T144049
CREATED:20240722T181559Z
LAST-MODIFIED:20240722T181617Z
UID:1777-1732816800-1732818600@informatica.escolatecnicaadelia.com.br
SUMMARY:Plantão de Dúvidas – Segurança da Informação
DESCRIPTION:Link para o plantão de dúvidas: \nEntrar Zoom Reunião \nhttps://us04web.zoom.us/j/8561823983?pwd=Wdwwoj5WHLPsAfaLgBAZ3mMkhpxJBB.1 \nID da reunião: 856 182 3983 \nSenha: adelia
URL:http://informatica.escolatecnicaadelia.com.br/aula/plantao-de-duvidas-seguranca-da-informacao-19/
END:VEVENT
BEGIN:VEVENT
DTSTART;TZID=America/Sao_Paulo:20241121T180000
DTEND;TZID=America/Sao_Paulo:20241121T183000
DTSTAMP:20260423T144049
CREATED:20240722T181421Z
LAST-MODIFIED:20240722T181526Z
UID:1774-1732212000-1732213800@informatica.escolatecnicaadelia.com.br
SUMMARY:Plantão de Dúvidas – Redes de Computadores
DESCRIPTION:Link para o plantão de dúvidas: \nEntrar Zoom Reunião \nhttps://us04web.zoom.us/j/8561823983?pwd=Wdwwoj5WHLPsAfaLgBAZ3mMkhpxJBB.1 \nID da reunião: 856 182 3983 \nSenha: adelia
URL:http://informatica.escolatecnicaadelia.com.br/aula/plantao-de-duvidas-redes-de-computadores-18/
END:VEVENT
BEGIN:VEVENT
DTSTART;TZID=America/Sao_Paulo:20241114T180000
DTEND;TZID=America/Sao_Paulo:20241114T183000
DTSTAMP:20260423T144049
CREATED:20240722T181400Z
LAST-MODIFIED:20240722T181400Z
UID:1772-1731607200-1731609000@informatica.escolatecnicaadelia.com.br
SUMMARY:Plantão de Dúvidas – Lógica de Programação
DESCRIPTION:Link para o plantão de dúvidas: \nEntrar Zoom Reunião \nhttps://us04web.zoom.us/j/8561823983?pwd=Wdwwoj5WHLPsAfaLgBAZ3mMkhpxJBB.1 \nID da reunião: 856 182 3983 \nSenha: adelia
URL:http://informatica.escolatecnicaadelia.com.br/aula/plantao-de-duvidas-logica-de-programacao-14/
END:VEVENT
BEGIN:VEVENT
DTSTART;TZID=America/Sao_Paulo:20241108T173000
DTEND;TZID=America/Sao_Paulo:20241108T180000
DTSTAMP:20260423T144049
CREATED:20240722T181241Z
LAST-MODIFIED:20241108T152234Z
UID:1770-1731087000-1731088800@informatica.escolatecnicaadelia.com.br
SUMMARY:Plantão de Dúvidas – Fundamentos de Hardware
DESCRIPTION:Link para o plantão de dúvidas: \nEntrar Zoom Reunião \nhttps://us04web.zoom.us/j/8561823983?pwd=Wdwwoj5WHLPsAfaLgBAZ3mMkhpxJBB.1 \nID da reunião: 856 182 3983 \nSenha: adelia
URL:http://informatica.escolatecnicaadelia.com.br/aula/plantao-de-duvidas-fundamentos-de-hardware-17/
END:VEVENT
BEGIN:VEVENT
DTSTART;TZID=America/Sao_Paulo:20241101T180000
DTEND;TZID=America/Sao_Paulo:20241101T183000
DTSTAMP:20260423T144049
CREATED:20240722T181213Z
LAST-MODIFIED:20241101T164557Z
UID:1768-1730484000-1730485800@informatica.escolatecnicaadelia.com.br
SUMMARY:Plantão de Dúvidas – Banco de Dados
DESCRIPTION:Link para o plantão de dúvidas: \nEntrar Zoom Reunião \nhttps://us04web.zoom.us/j/8561823983?pwd=Wdwwoj5WHLPsAfaLgBAZ3mMkhpxJBB.1 \nID da reunião: 856 182 3983 \nSenha: adelia
URL:http://informatica.escolatecnicaadelia.com.br/aula/plantao-de-duvidas-banco-de-dados-19/
END:VEVENT
BEGIN:VEVENT
DTSTART;TZID=America/Sao_Paulo:20241024T180000
DTEND;TZID=America/Sao_Paulo:20241024T183000
DTSTAMP:20260423T144049
CREATED:20240722T181137Z
LAST-MODIFIED:20240722T181137Z
UID:1766-1729792800-1729794600@informatica.escolatecnicaadelia.com.br
SUMMARY:Plantão de Dúvidas – Sistemas Digitais
DESCRIPTION:Link para o plantão de dúvidas: \nEntrar Zoom Reunião \nhttps://us04web.zoom.us/j/8561823983?pwd=Wdwwoj5WHLPsAfaLgBAZ3mMkhpxJBB.1 \nID da reunião: 856 182 3983 \nSenha: adelia
URL:http://informatica.escolatecnicaadelia.com.br/aula/plantao-de-duvidas-sistemas-digitais-18/
END:VEVENT
BEGIN:VEVENT
DTSTART;TZID=America/Sao_Paulo:20241017T180000
DTEND;TZID=America/Sao_Paulo:20241017T183000
DTSTAMP:20260423T144049
CREATED:20240722T173135Z
LAST-MODIFIED:20240722T174242Z
UID:1761-1729188000-1729189800@informatica.escolatecnicaadelia.com.br
SUMMARY:Plantão de Dúvidas – Programação Orientada a Objetos
DESCRIPTION:Link para o plantão de dúvidas: \nEntrar Zoom Reunião \nhttps://us04web.zoom.us/j/8561823983?pwd=Wdwwoj5WHLPsAfaLgBAZ3mMkhpxJBB.1 \nID da reunião: 856 182 3983 \nSenha: adelia
URL:http://informatica.escolatecnicaadelia.com.br/aula/plantao-de-duvidas-programacao-orientada-a-objetos-18/
END:VEVENT
BEGIN:VEVENT
DTSTART;TZID=America/Sao_Paulo:20241010T173000
DTEND;TZID=America/Sao_Paulo:20241010T180000
DTSTAMP:20260423T144049
CREATED:20240722T173021Z
LAST-MODIFIED:20241010T203022Z
UID:1759-1728581400-1728583200@informatica.escolatecnicaadelia.com.br
SUMMARY:Plantão de Dúvidas – Engenharia de Software
DESCRIPTION:Link para o plantão de dúvidas: \nEntrar Zoom Reunião \nhttps://us04web.zoom.us/j/8561823983?pwd=Wdwwoj5WHLPsAfaLgBAZ3mMkhpxJBB.1 \nID da reunião: 856 182 3983 \nSenha: adelia
URL:http://informatica.escolatecnicaadelia.com.br/aula/plantao-de-duvidas-engenharia-de-software-17/
END:VEVENT
BEGIN:VEVENT
DTSTART;TZID=America/Sao_Paulo:20241003T180000
DTEND;TZID=America/Sao_Paulo:20241003T183000
DTSTAMP:20260423T144049
CREATED:20240722T172208Z
LAST-MODIFIED:20240722T172608Z
UID:1748-1727978400-1727980200@informatica.escolatecnicaadelia.com.br
SUMMARY:Plantão de Dúvidas – Informática Aplicada
DESCRIPTION:Link para o plantão de dúvidas: \nEntrar Zoom Reunião \nhttps://us04web.zoom.us/j/8561823983?pwd=Wdwwoj5WHLPsAfaLgBAZ3mMkhpxJBB.1 \nID da reunião: 856 182 3983 \nSenha: adelia
URL:http://informatica.escolatecnicaadelia.com.br/aula/plantao-de-duvidas-informatica-aplicada-19/
END:VEVENT
BEGIN:VEVENT
DTSTART;TZID=America/Sao_Paulo:20240927T180000
DTEND;TZID=America/Sao_Paulo:20240927T183000
DTSTAMP:20260423T144049
CREATED:20240705T125114Z
LAST-MODIFIED:20240927T194303Z
UID:1736-1727460000-1727461800@informatica.escolatecnicaadelia.com.br
SUMMARY:Plantão de Dúvidas – Redes de Computadores
DESCRIPTION:Link para o plantão de dúvidas: \nEntrar Zoom Reunião \nhttps://us04web.zoom.us/j/8561823983?pwd=Wdwwoj5WHLPsAfaLgBAZ3mMkhpxJBB.1 \nID da reunião: 856 182 3983 \nSenha: adelia
URL:http://informatica.escolatecnicaadelia.com.br/aula/plantao-de-duvidas-logica-de-programacao-13/
END:VEVENT
BEGIN:VEVENT
DTSTART;TZID=America/Sao_Paulo:20240919T180000
DTEND;TZID=America/Sao_Paulo:20240919T183000
DTSTAMP:20260423T144049
CREATED:20240722T172420Z
LAST-MODIFIED:20240722T172822Z
UID:1754-1726768800-1726770600@informatica.escolatecnicaadelia.com.br
SUMMARY:Plantão de Dúvidas – Estrutura de Dados
DESCRIPTION:Link para o plantão de dúvidas: \nEntrar Zoom Reunião \nhttps://us04web.zoom.us/j/8561823983?pwd=Wdwwoj5WHLPsAfaLgBAZ3mMkhpxJBB.1 \nID da reunião: 856 182 3983 \nSenha: adelia
URL:http://informatica.escolatecnicaadelia.com.br/aula/plantao-de-duvidas-estrutura-de-dados-13/
END:VEVENT
BEGIN:VEVENT
DTSTART;TZID=America/Sao_Paulo:20240912T180000
DTEND;TZID=America/Sao_Paulo:20240912T183000
DTSTAMP:20260423T144049
CREATED:20240722T172344Z
LAST-MODIFIED:20240722T172344Z
UID:1752-1726164000-1726165800@informatica.escolatecnicaadelia.com.br
SUMMARY:Plantão de Dúvidas – Sistemas Operacionais Livres
DESCRIPTION:Link para o plantão de dúvidas: \nEntrar Zoom Reunião \nhttps://us04web.zoom.us/j/8561823983?pwd=Wdwwoj5WHLPsAfaLgBAZ3mMkhpxJBB.1 \nID da reunião: 856 182 3983 \nSenha: adelia
URL:http://informatica.escolatecnicaadelia.com.br/aula/plantao-de-duvidas-sistemas-operacionais-livres-20/
END:VEVENT
BEGIN:VEVENT
DTSTART;TZID=America/Sao_Paulo:20240905T180000
DTEND;TZID=America/Sao_Paulo:20240905T183000
DTSTAMP:20260423T144049
CREATED:20240722T172314Z
LAST-MODIFIED:20240722T172314Z
UID:1750-1725559200-1725561000@informatica.escolatecnicaadelia.com.br
SUMMARY:Plantão de Dúvidas – Manutenção de Computadores
DESCRIPTION:Link para o plantão de dúvidas: \nEntrar Zoom Reunião \nhttps://us04web.zoom.us/j/8561823983?pwd=Wdwwoj5WHLPsAfaLgBAZ3mMkhpxJBB.1 \nID da reunião: 856 182 3983 \nSenha: adelia
URL:http://informatica.escolatecnicaadelia.com.br/aula/plantao-de-duvidas-manutencao-de-computadores-20/
END:VEVENT
BEGIN:VEVENT
DTSTART;TZID=America/Sao_Paulo:20240829T180000
DTEND;TZID=America/Sao_Paulo:20240829T183000
DTSTAMP:20260423T144049
CREATED:20240722T172140Z
LAST-MODIFIED:20240722T172140Z
UID:1746-1724954400-1724956200@informatica.escolatecnicaadelia.com.br
SUMMARY:Plantão de Dúvidas – Segurança da Informação
DESCRIPTION:Link para o plantão de dúvidas: \nEntrar Zoom Reunião \nhttps://us04web.zoom.us/j/8561823983?pwd=Wdwwoj5WHLPsAfaLgBAZ3mMkhpxJBB.1 \nID da reunião: 856 182 3983 \nSenha: adelia
URL:http://informatica.escolatecnicaadelia.com.br/aula/plantao-de-duvidas-seguranca-da-informacao-18/
END:VEVENT
BEGIN:VEVENT
DTSTART;TZID=America/Sao_Paulo:20240824T141500
DTEND;TZID=America/Sao_Paulo:20240824T144500
DTSTAMP:20260423T144049
CREATED:20240722T172108Z
LAST-MODIFIED:20240824T120142Z
UID:1744-1724508900-1724510700@informatica.escolatecnicaadelia.com.br
SUMMARY:Plantão de Dúvidas – Redes de Computadores
DESCRIPTION:Link para o plantão de dúvidas: \nEntrar Zoom Reunião \nhttps://us04web.zoom.us/j/8561823983?pwd=Wdwwoj5WHLPsAfaLgBAZ3mMkhpxJBB.1 \nID da reunião: 856 182 3983 \nSenha: adelia
URL:http://informatica.escolatecnicaadelia.com.br/aula/plantao-de-duvidas-redes-de-computadores-17/
END:VEVENT
BEGIN:VEVENT
DTSTART;TZID=America/Sao_Paulo:20240815T180000
DTEND;TZID=America/Sao_Paulo:20240815T183000
DTSTAMP:20260423T144049
CREATED:20240705T125045Z
LAST-MODIFIED:20240705T125045Z
UID:1734-1723744800-1723746600@informatica.escolatecnicaadelia.com.br
SUMMARY:Plantão de Dúvidas – Fundamentos de Hardware
DESCRIPTION:Link para o plantão de dúvidas: \nEntrar Zoom Reunião \nhttps://us04web.zoom.us/j/8561823983?pwd=Wdwwoj5WHLPsAfaLgBAZ3mMkhpxJBB.1 \nID da reunião: 856 182 3983 \nSenha: adelia
URL:http://informatica.escolatecnicaadelia.com.br/aula/plantao-de-duvidas-fundamentos-de-hardware-16/
END:VEVENT
BEGIN:VEVENT
DTSTART;TZID=America/Sao_Paulo:20240808T173000
DTEND;TZID=America/Sao_Paulo:20240808T180000
DTSTAMP:20260423T144049
CREATED:20240705T125024Z
LAST-MODIFIED:20240808T193725Z
UID:1732-1723138200-1723140000@informatica.escolatecnicaadelia.com.br
SUMMARY:Plantão de Dúvidas – Banco de Dados
DESCRIPTION:Link para o plantão de dúvidas: \nEntrar Zoom Reunião \nhttps://us04web.zoom.us/j/8561823983?pwd=Wdwwoj5WHLPsAfaLgBAZ3mMkhpxJBB.1 \nID da reunião: 856 182 3983 \nSenha: adelia
URL:http://informatica.escolatecnicaadelia.com.br/aula/plantao-de-duvidas-banco-de-dados-18/
END:VEVENT
BEGIN:VEVENT
DTSTART;TZID=America/Sao_Paulo:20240803T080000
DTEND;TZID=America/Sao_Paulo:20240803T083000
DTSTAMP:20260423T144049
CREATED:20240517T193736Z
LAST-MODIFIED:20240802T134001Z
UID:1725-1722672000-1722673800@informatica.escolatecnicaadelia.com.br
SUMMARY:Plantão de Dúvidas – Engenharia de Software
DESCRIPTION:Link para o plantão de dúvidas: \nEntrar Zoom Reunião \nhttps://us04web.zoom.us/j/8561823983?pwd=Wdwwoj5WHLPsAfaLgBAZ3mMkhpxJBB.1 \nID da reunião: 856 182 3983 \nSenha: adelia
URL:http://informatica.escolatecnicaadelia.com.br/aula/plantao-de-duvidas-engenharia-de-software-16/
END:VEVENT
BEGIN:VEVENT
DTSTART;TZID=America/Sao_Paulo:20240725T173000
DTEND;TZID=America/Sao_Paulo:20240725T180000
DTSTAMP:20260423T144049
CREATED:20240517T193639Z
LAST-MODIFIED:20240725T161331Z
UID:1723-1721928600-1721930400@informatica.escolatecnicaadelia.com.br
SUMMARY:Plantão de Dúvidas – Programação Orientada a Objetos
DESCRIPTION:Link para o plantão de dúvidas: \nEntrar Zoom Reunião \nhttps://us04web.zoom.us/j/8561823983?pwd=Wdwwoj5WHLPsAfaLgBAZ3mMkhpxJBB.1 \nID da reunião: 856 182 3983 \nSenha: adelia
URL:http://informatica.escolatecnicaadelia.com.br/aula/plantao-de-duvidas-programacao-orientada-a-objetos-17/
END:VEVENT
BEGIN:VEVENT
DTSTART;TZID=America/Sao_Paulo:20240704T183000
DTEND;TZID=America/Sao_Paulo:20240704T190000
DTSTAMP:20260423T144049
CREATED:20240517T191948Z
LAST-MODIFIED:20240704T205612Z
UID:1713-1720117800-1720119600@informatica.escolatecnicaadelia.com.br
SUMMARY:Plantão de Dúvidas – Sistemas Operacionais Livres
DESCRIPTION:Link para o plantão de dúvidas: \n\nEntrar Zoom Reunião \nhttps://us04web.zoom.us/j/8561823983?pwd=Wdwwoj5WHLPsAfaLgBAZ3mMkhpxJBB.1 \nID da reunião: 856 182 3983 \nSenha: adelia
URL:http://informatica.escolatecnicaadelia.com.br/aula/plantao-de-duvidas-sistemas-operacionais-livres-19/
END:VEVENT
BEGIN:VEVENT
DTSTART;TZID=America/Sao_Paulo:20240701T173000
DTEND;TZID=America/Sao_Paulo:20240701T180000
DTSTAMP:20260423T144049
CREATED:20240517T192233Z
LAST-MODIFIED:20240701T115350Z
UID:1717-1719855000-1719856800@informatica.escolatecnicaadelia.com.br
SUMMARY:Plantão de Dúvidas – Redes de Computadores
DESCRIPTION:Link para o plantão de dúvidas: \nEntrar Zoom Reunião \nhttps://us04web.zoom.us/j/8561823983?pwd=Wdwwoj5WHLPsAfaLgBAZ3mMkhpxJBB.1 \nID da reunião: 856 182 3983 \nSenha: adelia
URL:http://informatica.escolatecnicaadelia.com.br/aula/plantao-de-duvidas-redes-de-computadores-16/
END:VEVENT
BEGIN:VEVENT
DTSTART;TZID=America/Sao_Paulo:20240621T173000
DTEND;TZID=America/Sao_Paulo:20240621T180000
DTSTAMP:20260423T144049
CREATED:20240517T192049Z
LAST-MODIFIED:20240619T190831Z
UID:1715-1718991000-1718992800@informatica.escolatecnicaadelia.com.br
SUMMARY:Plantão de Dúvidas – Banco de Dados
DESCRIPTION:Link para o plantão de dúvidas: \nEntrar Zoom Reunião \nhttps://us04web.zoom.us/j/8561823983?pwd=Wdwwoj5WHLPsAfaLgBAZ3mMkhpxJBB.1 \nID da reunião: 856 182 3983 \nSenha: adelia
URL:http://informatica.escolatecnicaadelia.com.br/aula/plantao-de-duvidas-banco-de-dados-17/
END:VEVENT
BEGIN:VEVENT
DTSTART;TZID=America/Sao_Paulo:20240614T203000
DTEND;TZID=America/Sao_Paulo:20240614T210000
DTSTAMP:20260423T144049
CREATED:20240517T191909Z
LAST-MODIFIED:20240614T212535Z
UID:1711-1718397000-1718398800@informatica.escolatecnicaadelia.com.br
SUMMARY:Plantão de Dúvidas – Fundamentos de Hardware
DESCRIPTION:Link para o plantão de dúvidas: \nEntrar Zoom Reunião \nhttps://us04web.zoom.us/j/8561823983?pwd=Wdwwoj5WHLPsAfaLgBAZ3mMkhpxJBB.1 \nID da reunião: 856 182 3983 \nSenha: adelia
URL:http://informatica.escolatecnicaadelia.com.br/aula/plantao-de-duvidas-fundamentos-de-hardware-15/
END:VEVENT
BEGIN:VEVENT
DTSTART;TZID=America/Sao_Paulo:20240607T201500
DTEND;TZID=America/Sao_Paulo:20240607T204500
DTSTAMP:20260423T144049
CREATED:20240517T191817Z
LAST-MODIFIED:20240607T210658Z
UID:1709-1717791300-1717793100@informatica.escolatecnicaadelia.com.br
SUMMARY:Plantão de Dúvidas – Lógica de Programação
DESCRIPTION:Link para o plantão de dúvidas: \nEntrar Zoom Reunião \nhttps://us04web.zoom.us/j/8561823983?pwd=Wdwwoj5WHLPsAfaLgBAZ3mMkhpxJBB.1 \nID da reunião: 856 182 3983 \nSenha: adelia
URL:http://informatica.escolatecnicaadelia.com.br/aula/plantao-de-duvidas-logica-de-programacao-12/
END:VEVENT
BEGIN:VEVENT
DTSTART;TZID=America/Sao_Paulo:20240604T201000
DTEND;TZID=America/Sao_Paulo:20240604T204000
DTSTAMP:20260423T144049
CREATED:20240517T191651Z
LAST-MODIFIED:20240603T210453Z
UID:1706-1717531800-1717533600@informatica.escolatecnicaadelia.com.br
SUMMARY:Plantão de Dúvidas – Manutenção de Computadores
DESCRIPTION:Link para o plantão de dúvidas: \nEntrar Zoom Reunião \nhttps://us04web.zoom.us/j/8561823983?pwd=Wdwwoj5WHLPsAfaLgBAZ3mMkhpxJBB.1 \nID da reunião: 856 182 3983 \nSenha: adelia
URL:http://informatica.escolatecnicaadelia.com.br/aula/plantao-de-duvidas-manutencao-de-computadores-19/
END:VEVENT
BEGIN:VEVENT
DTSTART;TZID=America/Sao_Paulo:20240524T180000
DTEND;TZID=America/Sao_Paulo:20240524T183000
DTSTAMP:20260423T144049
CREATED:20240517T191530Z
LAST-MODIFIED:20240523T205550Z
UID:1704-1716573600-1716575400@informatica.escolatecnicaadelia.com.br
SUMMARY:Plantão de Dúvidas - Informática Aplicada
DESCRIPTION:Link para o plantão de dúvidas: \nEntrar Zoom Reunião \nhttps://us04web.zoom.us/j/8561823983?pwd=Wdwwoj5WHLPsAfaLgBAZ3mMkhpxJBB.1 \nID da reunião: 856 182 3983 \nSenha: adelia
URL:http://informatica.escolatecnicaadelia.com.br/aula/plantao-de-duvidas-informatica-aplicada-18/
END:VEVENT
BEGIN:VEVENT
DTSTART;TZID=America/Sao_Paulo:20240512T093000
DTEND;TZID=America/Sao_Paulo:20240512T100000
DTSTAMP:20260423T144049
CREATED:20231229T000933Z
LAST-MODIFIED:20240511T131749Z
UID:1610-1715506200-1715508000@informatica.escolatecnicaadelia.com.br
SUMMARY:Plantão de Dúvidas - Sistemas Operacionais Livres
DESCRIPTION:Olá Pessoal\, \n  \nVamos bater um papo sobre a unidade 03 de Sistemas Operacionais Livres. \n  \nEntrar na reunião Zoom \nhttps://us04web.zoom.us/j/7731149059?pwd=StIjFzPOGpTnFps3aih4HVHybLpyjk.1 \n  \nID da reunião: 773 114 9059 \nSenha de acesso: adelia
URL:http://informatica.escolatecnicaadelia.com.br/aula/plantao-de-duvidas-sistemas-operacionais-livres-18/
END:VEVENT
BEGIN:VEVENT
DTSTART;TZID=America/Sao_Paulo:20240504T093000
DTEND;TZID=America/Sao_Paulo:20240504T100000
DTSTAMP:20260423T144049
CREATED:20231229T000734Z
LAST-MODIFIED:20231229T000734Z
UID:1608-1714815000-1714816800@informatica.escolatecnicaadelia.com.br
SUMMARY:Plantão de Dúvidas - Engenharia de Software
DESCRIPTION:Olá Pessoal\, \n  \nVamos bater um papo sobre a unidade 03 de Engenharia de Software. \n  \nEntrar na reunião Zoom \nhttps://us04web.zoom.us/j/7731149059?pwd=StIjFzPOGpTnFps3aih4HVHybLpyjk.1 \n  \nID da reunião: 773 114 9059 \nSenha de acesso: adelia
URL:http://informatica.escolatecnicaadelia.com.br/aula/plantao-de-duvidas-engenharia-de-software-15/
END:VEVENT
BEGIN:VEVENT
DTSTART;TZID=America/Sao_Paulo:20240427T093000
DTEND;TZID=America/Sao_Paulo:20240427T100000
DTSTAMP:20260423T144049
CREATED:20231229T000603Z
LAST-MODIFIED:20231229T000603Z
UID:1606-1714210200-1714212000@informatica.escolatecnicaadelia.com.br
SUMMARY:Plantão de Dúvidas - Sistemas Digitais
DESCRIPTION:Olá Pessoal\, \n  \nVamos bater um papo sobre a unidade 03 de Sistemas Digitais. \n  \nEntrar na reunião Zoom \nhttps://us04web.zoom.us/j/7731149059?pwd=StIjFzPOGpTnFps3aih4HVHybLpyjk.1 \n  \nID da reunião: 773 114 9059 \nSenha de acesso: adelia
URL:http://informatica.escolatecnicaadelia.com.br/aula/plantao-de-duvidas-sistemas-digitais-17/
END:VEVENT
BEGIN:VEVENT
DTSTART;TZID=America/Sao_Paulo:20240420T093000
DTEND;TZID=America/Sao_Paulo:20240420T100000
DTSTAMP:20260423T144049
CREATED:20231228T235939Z
LAST-MODIFIED:20231228T235939Z
UID:1604-1713605400-1713607200@informatica.escolatecnicaadelia.com.br
SUMMARY:Plantão de Dúvidas - Informática Aplicada
DESCRIPTION:Olá Pessoal\, \n  \nVamos bater um papo sobre a unidade 03 de Informática Aplicada. \n  \nEntrar na reunião Zoom \nhttps://us04web.zoom.us/j/7731149059?pwd=StIjFzPOGpTnFps3aih4HVHybLpyjk.1 \n  \nID da reunião: 773 114 9059 \nSenha de acesso: adelia
URL:http://informatica.escolatecnicaadelia.com.br/aula/plantao-de-duvidas-informatica-aplicada-17/
END:VEVENT
END:VCALENDAR